BEGIN:VCALENDAR
VERSION:2.0
PRODID:-//Hassocks-Montmirail-Wald-Michelbach//NONSGML kigkonsult.se iCalcreator 2.41.92//
CALSCALE:GREGORIAN
METHOD:PUBLISH
UID:39663165-3132-4164-a531-656438653663
X-WR-CALNAME:iCagenda
X-WR-CALDESC:Event Management Extension for Joomla!
X-WR-RELCALID:3E26604A-50F4-4449-8B3E-E4F4932D05B5
X-WR-TIMEZONE:UTC
BEGIN:VTIMEZONE
TZID:UTC
END:VTIMEZONE
BEGIN:VEVENT
UID:31336431-3562-4836-a465-373633653066
DTSTAMP:20260423T170123Z
CATEGORIES:Rencontres annuelles
CLASS:PUBLIC
DESCRIPTION;ALTREP="CID:<FFFF__=0ABBE548DFE235B58f9e8a93d@coffeebean.com>":
 Quand le programme sera établi vous pourrez le charger !&nbsp\;\n&nbsp\;\n
 \n\n\n\nTélécharger le programme\n{ pdf=images/FR/docs/programme_2026.pdf&
 nbsp\; | btn | btn-target=popup| btn-text=Télécharger le programme| btn-ic
 on=images/btn/pdf-icon.png| close-left=0}\n\n\n\n\n&nbsp\;\n\n\n\n\nDownlo
 d the programme\n{ pdf=images/EN/docs/programme 2026-EN.pdf&nbsp\; | btn |
  btn-target=popup| btn-text=Program to download| btn-icon=images/btn/pdf-i
 con.png| close-left=0}\n\n\n\n\n&nbsp\;\n\n\n\n\nProgramm der Tage zum Her
 unterladen\n{ pdf=images/DE/docs/programme 2026 DE.pdf&nbsp\; | btn | btn-
 target=popup| btn-text=Download des Programms| btn-icon=images/btn/pdf-ico
 n.png| close-left=0}\n\n\n
DTSTART:20260522T070000Z
DTEND:20260525T200000Z
GEO:+50.924278;-0.145335
LOCATION:Hassocks
ORGANIZER;CN=:mailto:veroniquefaivre@gmail.com
SEQUENCE:1
SUMMARY:Séjour à Hassocks en 2026
TRANSP:OPAQUE
URL:https://jumelage-montmirail.fr/index.php/agenda/1-sejour-a-hassocks
END:VEVENT
END:VCALENDAR
